BEGIN:VCALENDAR
VERSION:2.0
PRODID:-//eventon.com NONSGML v1.0//EN
CALSCALE:GREGORIAN
METHOD:PUBLISH
BEGIN:VEVENT
UID:69e62f7499bed
DTSTAMP:20260420T135148Z
DTSTART:20191119T093000Z
DTEND:20191119T150000Z
LOCATION:SCHMIT-Z Mustorstraße 4
SUMMARY:Fortbildung "Sexuelle & geschlechtliche Vielfalt in der Beratungsarbeit"
DESCRIPTION:In unserer Gesellschaft sind vielfältige Lebens-und Familienfo
 rmen Alltag. Lesben\,  Schwule\,  Bisexuelle\,  Transidente und Intersexuel
 le(LSBTI) gehören dazu. Trotzdem erwarten in der Regel Familie und Freunde
 skreis eine heterosexuelle und geschlechterrollenkonforme Entwicklung. Glei
 ches gilt für Schule\,  Ausbildungs-und Arbeitsplatz\,  wo Lesben\,  Schwu
 le\,  Bisexuelle\,  Transidente und Intersexuelle laut einer Studie des Deu
 tschen Jugendinstituts nach wie[..]\nhttps://www.schmit-z.de/events/fortbil
 dung-sexuelle-geschlechtliche-vielfalt-in-der-beratungsarbeit
URL:https://www.schmit-z.de/events/fortbildung-sexuelle-geschlechtliche-vielfalt-in-der-beratungsarbeit
END:VEVENT
END:VCALENDAR