BEGIN:VCALENDAR
VERSION:2.0
PRODID:-//eventon.com NONSGML v1.0//EN
CALSCALE:GREGORIAN
METHOD:PUBLISH
BEGIN:VEVENT
UID:69e9d178c2b7a
DTSTAMP:20260423T075952Z
DTSTART:20190516T190000Z
DTEND:20190516T210000Z
LOCATION:SCHMIT-Z Mustorstraße 4
SUMMARY:LGBT Aktivismus in Russland - Vortrag
DESCRIPTION:LGBT Aktivismus in Russland – der Weg auf Messers Schneide Ha
 bt ihr euch schon mal gefragt wie es ist\,  LGBTQ in Russland zu sein? Nich
 t viele wissen\,  dass seit 2013 es ein „Anti-LGBT Propaganda“ Gesetz g
 ibt. Es stellt jegliches Erwähnen von Normalität der sexuellen Vielfalt i
 n Anwesenheit von Minderjährigen unter[..]\nhttps://www.schmit-z.de/events
 /lgbt-aktivismus-in-russland-vortrag
URL:https://www.schmit-z.de/events/lgbt-aktivismus-in-russland-vortrag
END:VEVENT
END:VCALENDAR