BEGIN:VCALENDAR
VERSION:2.0
PRODID:-//eventon.com NONSGML v1.0//EN
CALSCALE:GREGORIAN
METHOD:PUBLISH
BEGIN:VEVENT
UID:69e8fd0b94d15
DTSTAMP:20260422T165331Z
DTSTART:20260206T191100Z
DTEND:20260206T225900Z
LOCATION:Messepark Trier In den Moselauen 1
SUMMARY:Rosa Karneval: "Aufbruch nach Queertopia"
DESCRIPTION:Die diesjährige queere Karnevalssitzung wird fantasievoller\, 
  bunter und queerer denn je!&nbsp; Unter dem Motto „Aufbruch nach Queerto
 pia – ins Land der Phantasie“ laden wir alle Jecken und Karnevalsfreund
 *innen und diejenigen\,  die es noch werden\,  zu vier unvergesslichen Aben
 den voller Glanz\,  Glamour und grenzenloser Phantasie ein. Die queere Karn
 evalssitzung ist nicht[..]\nhttps://www.schmit-z.de/events/rosa-karneval-au
 fbruch-nach-queertopia
URL:https://www.schmit-z.de/events/rosa-karneval-aufbruch-nach-queertopia
END:VEVENT
END:VCALENDAR