BEGIN:VCALENDAR
VERSION:2.0
PRODID:-//eventon.com NONSGML v1.0//EN
CALSCALE:GREGORIAN
METHOD:PUBLISH
BEGIN:VEVENT
UID:69e88749bc48e
DTSTAMP:20260422T083105Z
DTSTART:20251007T180000Z
DTEND:20251007T215900Z
LOCATION:
SUMMARY:SchwuFo Vortrag
DESCRIPTION:Das SchwuFo (Schwulenforum) trifft sich nächsten Dienstag im S
 CHMIT-Z zu einem Vortrag zum Thema Queerfeindlichkeit. Treffpunkt ist um 20
 .00 Uhr vor Ort (Mustorstr. 4\,  54290 Trier).***SchwuFo (gays&#8216; forum
 ) will be meeting next Tuesday for a presentation on queerphobia. Meeting i
 s at 8pm at SCHMIT-Z (Mustorstr. 4\,  54290 Trier).\nhttps://www.schmit-z.d
 e/events/schwufo-vortrag
URL:https://www.schmit-z.de/events/schwufo-vortrag
END:VEVENT
END:VCALENDAR