BEGIN:VCALENDAR
VERSION:2.0
PRODID:-//eventon.com NONSGML v1.0//EN
CALSCALE:GREGORIAN
METHOD:PUBLISH
BEGIN:VEVENT
UID:69e8873fbefc4
DTSTAMP:20260422T083055Z
DTSTART:20250507T160000Z
DTEND:20250507T200000Z
LOCATION:Queergarten
SUMMARY:Karaokeabend @Queergarten
DESCRIPTION:Mittwoch gibt&#8217;s wieder einen Open Air Karaoke Abend im Qu
 eergarten! Singt eure Liebslingsongs\,  trällert eine queere Hymne oder ha
 bt einfach Spaß mit euren Freund*innen und der Community. Wir freuen uns 
 über die Unterstützung vom lieben DJ Carnage\,  der bestens auf eure musi
 kalischen Wünsche eingehen kann! Teilnahme an Karaoke 2€ &#8211; wird m
 it[..]\nhttps://www.schmit-z.de/events/karaokeabend-queergarten
URL:https://www.schmit-z.de/events/karaokeabend-queergarten
END:VEVENT
END:VCALENDAR