BEGIN:VCALENDAR
VERSION:2.0
PRODID:-//eventon.com NONSGML v1.0//EN
CALSCALE:GREGORIAN
METHOD:PUBLISH
BEGIN:VEVENT
UID:69e8873af26dd
DTSTAMP:20260422T083050Z
DTSTART:20250624T180000Z
DTEND:20250624T215900Z
LOCATION:
SUMMARY:SchwuFo Stadtrallye
DESCRIPTION:Das SchwuFo (Schwulenforum) trifft sich zur gemeisnamen Stadtra
 llye. Treffpunkt ist um 20.00 Uhr am SCHMIT-Z (Mustorstr. 4\,  54290 Trier)
 .***SchwuFo (gays‘ forum) will be meeting for a rallye through Trier. Mee
 ting is at 8pm at SCHMIT-Z (Mustorstr. 4\,  54290 Trier).\nhttps://www.schm
 it-z.de/events/schwufo-stadtrallye
URL:https://www.schmit-z.de/events/schwufo-stadtrallye
END:VEVENT
END:VCALENDAR