BEGIN:VCALENDAR
VERSION:2.0
PRODID:-//eventon.com NONSGML v1.0//EN
CALSCALE:GREGORIAN
METHOD:PUBLISH
BEGIN:VEVENT
UID:69e8879ae9b0f
DTSTAMP:20260422T083226Z
DTSTART:20250218T190000Z
DTEND:20250218T225900Z
LOCATION:
SUMMARY:SchwuFo Luftballonaufblasen
DESCRIPTION:Das SchwuFo (Schwulenforum) trifft sich zum traditionllen Luftb
 allonaufblasen für Rosa Karneval im Messepark. Treffpunkt ist um 20.00 Uhr
  im Messepark (In den Moselauen 1\,  54294 Trier).***SchwuFo (gays‘ forum
 ) will be meeting to inflate balloons together fpr pink carnival. Meeting i
 s at 8pm at Messepark (In den Moselauen 1\,  54294 Trier).\nhttps://www.sch
 mit-z.de/events/schwufo-luftballonaufblasen
URL:https://www.schmit-z.de/events/schwufo-luftballonaufblasen
END:VEVENT
END:VCALENDAR