BEGIN:VCALENDAR
VERSION:2.0
PRODID:-//eventon.com NONSGML v1.0//EN
CALSCALE:GREGORIAN
METHOD:PUBLISH
BEGIN:VEVENT
UID:69e88744bc392
DTSTAMP:20260422T083100Z
DTSTART:20250205T181500Z
DTEND:20250205T220000Z
LOCATION:Escape Room Euren Diedenhofener Str. 26\,  54294 Trier
SUMMARY:Oase
DESCRIPTION:Escape Room Trier (Teil IV) “Jack the Ripper” – danach Es
 senseinkehr (Orga: David)🗒 18.15 Uhr Escape Rooms\,  Diedenhofener Stra
 e 26\,  Trier-Euren (bitte pünktlich!)📌 Anmeldung zur Teilnahme erford
 erlich (max. 8 Spieler)!🍴 20.30 Uhr Gasthaus Schütz\,  Udostraße 74\, 
  Trier-Euren\nhttps://www.schmit-z.de/events/oase-28
URL:https://www.schmit-z.de/events/oase-28
END:VEVENT
END:VCALENDAR